BEGIN:VCALENDAR
VERSION:2.0
PRODID:-//Dr. Diana Hill - ECPv6.15.20//NONSGML v1.0//EN
CALSCALE:GREGORIAN
METHOD:PUBLISH
X-WR-CALNAME:Dr. Diana Hill
X-ORIGINAL-URL:https://drdianahill.com
X-WR-CALDESC:Events for Dr. Diana Hill
REFRESH-INTERVAL;VALUE=DURATION:PT1H
X-Robots-Tag:noindex
X-PUBLISHED-TTL:PT1H
BEGIN:VTIMEZONE
TZID:America/Los_Angeles
BEGIN:DAYLIGHT
TZOFFSETFROM:-0800
TZOFFSETTO:-0700
TZNAME:PDT
DTSTART:20240310T100000
END:DAYLIGHT
BEGIN:STANDARD
TZOFFSETFROM:-0700
TZOFFSETTO:-0800
TZNAME:PST
DTSTART:20241103T090000
END:STANDARD
BEGIN:DAYLIGHT
TZOFFSETFROM:-0800
TZOFFSETTO:-0700
TZNAME:PDT
DTSTART:20250309T100000
END:DAYLIGHT
BEGIN:STANDARD
TZOFFSETFROM:-0700
TZOFFSETTO:-0800
TZNAME:PST
DTSTART:20251102T090000
END:STANDARD
BEGIN:DAYLIGHT
TZOFFSETFROM:-0800
TZOFFSETTO:-0700
TZNAME:PDT
DTSTART:20260308T100000
END:DAYLIGHT
BEGIN:STANDARD
TZOFFSETFROM:-0700
TZOFFSETTO:-0800
TZNAME:PST
DTSTART:20261101T090000
END:STANDARD
END:VTIMEZONE
BEGIN:VEVENT
DTSTART;TZID=America/Los_Angeles:20250501T080000
DTEND;TZID=America/Los_Angeles:20250504T170000
DTSTAMP:20260422T083536
CREATED:20250421T223356Z
LAST-MODIFIED:20250421T225427Z
UID:9878-1746086400-1746378000@drdianahill.com
SUMMARY:ACT BootCamp: The Premier 4-Day Training in Acceptance & Commitment Therapy
DESCRIPTION:Back by popular demand:\n\n\n\nThe most advanced training in Acceptance & Commitment Therapy.\n\n\n\n\n\n\n\nOffered only a few times per year\, and only live in-person\, the ACT Bootcamp is a 4-day skills-based experiential learning that will fully prepare you to apply ACT in a variety of clinical settings. \n\n\n\nThe best part is that\, as a process-based approach to therapy\, it can stand on its own or provide a foundation that can be integrated with ANY approach you already use– whether you practice DBT\, EMDR\, CBT\, or IFS…. \n\n\n\n….And it can provide a highly practical framework for exactly what to focus on in treatment regardless of what symptoms or diagnoses your clients may have – from anxiety and depression to complex PTSD and more. \n\n\n\nThis is your chance to work directly with the co-developer of ACT\, Steven C. Hayes\, one of the most cited psychologists in the world\, along with three of the world’s leading ACT Trainers\, Robin Walser\, Diana Hill\, and Miranda Morris. \n\n\n\nThis 4-day experience is designed to welcome new and advanced practitioners\, guiding you in the practical application of ACT with a variety of clients and cases. You’ll see just how ACT and process-based approaches can fit into any therapy practice to help you master: \n\n\n\n\nExactly what change processes (not symptoms) to target in therapy\n\n\n\nHow to adapt the tools you already use\, including CBT\, DBT\, IFS\, and more\, to create a new and flexible approach for every client\n\n\n\nHow to track your client’s progress on the things that matter most to them\n\n\n\n\nThis premier\, live in-person training experience is not available anywhere online. It’s never been filmed and will not be available as an online course. \n\n\n\nThere is simply no better place to experience how to use Acceptance & Commitment Therapy from start to finish than ACT Bootcamp. \n\n\n\nDue to the experiential nature of this training\, we are limiting registration\, and we fully expect this in-person only training to sell out. So REGISTER TODAY to take advantage of this rare and exclusive training experience.
URL:https://drdianahill.com/event/act-bootcamp-2025/
LOCATION:Grand Hyatt Denver\, 1750 Welton St\, 80202\, United States
CATEGORIES:Conference
ATTACH;FMTTYPE=image/jpeg:https://drdianahill.com/wp-content/uploads/2025/04/ACT-BootCamp-2025-live-in-denver-Dr.-Diana-Hill-ACT-Psychologist-Leadership-Coach-Wise-Effort-.jpg
END:VEVENT
END:VCALENDAR