BEGIN:VCALENDAR
VERSION:2.0
PRODID:-//Dr. Diana Hill - ECPv6.15.18//NONSGML v1.0//EN
CALSCALE:GREGORIAN
METHOD:PUBLISH
X-WR-CALNAME:Dr. Diana Hill
X-ORIGINAL-URL:https://drdianahill.com
X-WR-CALDESC:Events for Dr. Diana Hill
REFRESH-INTERVAL;VALUE=DURATION:PT1H
X-Robots-Tag:noindex
X-PUBLISHED-TTL:PT1H
BEGIN:VTIMEZONE
TZID:America/Los_Angeles
BEGIN:DAYLIGHT
TZOFFSETFROM:-0800
TZOFFSETTO:-0700
TZNAME:PDT
DTSTART:20240310T100000
END:DAYLIGHT
BEGIN:STANDARD
TZOFFSETFROM:-0700
TZOFFSETTO:-0800
TZNAME:PST
DTSTART:20241103T090000
END:STANDARD
BEGIN:DAYLIGHT
TZOFFSETFROM:-0800
TZOFFSETTO:-0700
TZNAME:PDT
DTSTART:20250309T100000
END:DAYLIGHT
BEGIN:STANDARD
TZOFFSETFROM:-0700
TZOFFSETTO:-0800
TZNAME:PST
DTSTART:20251102T090000
END:STANDARD
BEGIN:DAYLIGHT
TZOFFSETFROM:-0800
TZOFFSETTO:-0700
TZNAME:PDT
DTSTART:20260308T100000
END:DAYLIGHT
BEGIN:STANDARD
TZOFFSETFROM:-0700
TZOFFSETTO:-0800
TZNAME:PST
DTSTART:20261101T090000
END:STANDARD
END:VTIMEZONE
BEGIN:VEVENT
DTSTART;TZID=America/Los_Angeles:20250717T151500
DTEND;TZID=America/Los_Angeles:20250717T163000
DTSTAMP:20260420T090733
CREATED:20250422T180702Z
LAST-MODIFIED:20250901T164333Z
UID:9886-1752765300-1752769800@drdianahill.com
SUMMARY:Movement Workshop Using ACT Strategies: ACBS World Conference 2025
DESCRIPTION:Find inspiration for yourself and your clients to move more in your daily lives using ACT strategies. Join Diana Hill and Jason Lillis in New Orleans this July at their movement workshop using strategies from ACT at the ACBS World Conference 2025. \n\n\n\nWorkshop Title: I Know I Should Exercise But…: ACT Strategies to Empower You and Your Clients to Move More Everyday.  \n\n\n\nWho: Presented by Diana Hill and Jason Lillis \n\n\n\nWhere: ACBS World Conference\, New Orleans\, Louisiana \n\n\n\nWhen: July 17-20\, 2025 \n\n\n\nRelated Resource: Get Diana’s book I Know I Should Exercise But…44 Reasons We Don’t Move and How to Get Over Them to further explore ACT strategies.
URL:https://drdianahill.com/event/movement-workshop-using-act-strategies-acbs-world-conference-2025/
LOCATION:California
CATEGORIES:Conference
ATTACH;FMTTYPE=image/png:https://drdianahill.com/wp-content/uploads/2025/04/WC2025-Logo-10.2.png
END:VEVENT
END:VCALENDAR