BEGIN:VCALENDAR
VERSION:2.0
PRODID:-//Dr. Diana Hill - ECPv6.15.20//NONSGML v1.0//EN
CALSCALE:GREGORIAN
METHOD:PUBLISH
X-ORIGINAL-URL:https://drdianahill.com
X-WR-CALDESC:Events for Dr. Diana Hill
REFRESH-INTERVAL;VALUE=DURATION:PT1H
X-Robots-Tag:noindex
X-PUBLISHED-TTL:PT1H
BEGIN:VTIMEZONE
TZID:America/Los_Angeles
BEGIN:DAYLIGHT
TZOFFSETFROM:-0800
TZOFFSETTO:-0700
TZNAME:PDT
DTSTART:20240310T100000
END:DAYLIGHT
BEGIN:STANDARD
TZOFFSETFROM:-0700
TZOFFSETTO:-0800
TZNAME:PST
DTSTART:20241103T090000
END:STANDARD
BEGIN:DAYLIGHT
TZOFFSETFROM:-0800
TZOFFSETTO:-0700
TZNAME:PDT
DTSTART:20250309T100000
END:DAYLIGHT
BEGIN:STANDARD
TZOFFSETFROM:-0700
TZOFFSETTO:-0800
TZNAME:PST
DTSTART:20251102T090000
END:STANDARD
BEGIN:DAYLIGHT
TZOFFSETFROM:-0800
TZOFFSETTO:-0700
TZNAME:PDT
DTSTART:20260308T100000
END:DAYLIGHT
BEGIN:STANDARD
TZOFFSETFROM:-0700
TZOFFSETTO:-0800
TZNAME:PST
DTSTART:20261101T090000
END:STANDARD
END:VTIMEZONE
BEGIN:VEVENT
DTSTART;TZID=America/Los_Angeles:20250916T123000
DTEND;TZID=America/Los_Angeles:20250916T143000
DTSTAMP:20260422T064216
CREATED:20250901T162238Z
LAST-MODIFIED:20250901T180627Z
UID:9974-1758025800-1758033000@drdianahill.com
SUMMARY:Wise Effort Book Idea Lab with Jennie Nash (Online Workshop)
DESCRIPTION:Find Out If Your Idea Has The Power To Become A Book \n\n\n\nA 2.5-Hour Live Online Session Tuesday\, September 1612:00 PM – 2:30 PM (PDT) \n\n\n\n\n\n\nSign Up Today
URL:https://drdianahill.com/event/wise-effort-book-idea-lab-with-jennie-nash-online-workshop/
LOCATION:California
CATEGORIES:Webinar,Workshop
ATTACH;FMTTYPE=image/jpeg:https://drdianahill.com/wp-content/uploads/2025/09/Wise-Effort-Book-Idea-Lab-by-Jennie-Nash-Book-Coach-and-Dr.-Diana-Hill-ACT-Psychologist-Leadership-Coach.jpg
END:VEVENT
END:VCALENDAR