BEGIN:VCALENDAR
VERSION:2.0
PRODID:-//Dr. Diana Hill - ECPv6.15.20//NONSGML v1.0//EN
CALSCALE:GREGORIAN
METHOD:PUBLISH
X-WR-CALNAME:Dr. Diana Hill
X-ORIGINAL-URL:https://drdianahill.com
X-WR-CALDESC:Events for Dr. Diana Hill
REFRESH-INTERVAL;VALUE=DURATION:PT1H
X-Robots-Tag:noindex
X-PUBLISHED-TTL:PT1H
BEGIN:VTIMEZONE
TZID:America/Los_Angeles
BEGIN:DAYLIGHT
TZOFFSETFROM:-0800
TZOFFSETTO:-0700
TZNAME:PDT
DTSTART:20240310T100000
END:DAYLIGHT
BEGIN:STANDARD
TZOFFSETFROM:-0700
TZOFFSETTO:-0800
TZNAME:PST
DTSTART:20241103T090000
END:STANDARD
BEGIN:DAYLIGHT
TZOFFSETFROM:-0800
TZOFFSETTO:-0700
TZNAME:PDT
DTSTART:20250309T100000
END:DAYLIGHT
BEGIN:STANDARD
TZOFFSETFROM:-0700
TZOFFSETTO:-0800
TZNAME:PST
DTSTART:20251102T090000
END:STANDARD
BEGIN:DAYLIGHT
TZOFFSETFROM:-0800
TZOFFSETTO:-0700
TZNAME:PDT
DTSTART:20260308T100000
END:DAYLIGHT
BEGIN:STANDARD
TZOFFSETFROM:-0700
TZOFFSETTO:-0800
TZNAME:PST
DTSTART:20261101T090000
END:STANDARD
END:VTIMEZONE
BEGIN:VEVENT
DTSTART;TZID=America/Los_Angeles:20250923T000000
DTEND;TZID=America/Los_Angeles:20250923T235959
DTSTAMP:20260423T161658
CREATED:20250901T163051Z
LAST-MODIFIED:20250901T164145Z
UID:9976-1758585600-1758671999@drdianahill.com
SUMMARY:Wise Effort Book Release Date!
DESCRIPTION:Diana’s new book\, Wise Effort: How to Focus Your Genius Energy on What Matters Most\, arrives at your doorstep.  \n\n\n\nBe sure to pre-order to receive all the bonuses.
URL:https://drdianahill.com/event/wise-effort-book-release-date/
LOCATION:California
CATEGORIES:Announcement,Book Launch
ATTACH;FMTTYPE=image/png:https://drdianahill.com/wp-content/uploads/2025/09/CVR_3D_WiseEffort_Hill_SoundsTrue.png
END:VEVENT
END:VCALENDAR