BEGIN:VCALENDAR
VERSION:2.0
PRODID:-//Dr. Diana Hill - ECPv6.15.20//NONSGML v1.0//EN
CALSCALE:GREGORIAN
METHOD:PUBLISH
X-WR-CALNAME:Dr. Diana Hill
X-ORIGINAL-URL:https://drdianahill.com
X-WR-CALDESC:Events for Dr. Diana Hill
REFRESH-INTERVAL;VALUE=DURATION:PT1H
X-Robots-Tag:noindex
X-PUBLISHED-TTL:PT1H
BEGIN:VTIMEZONE
TZID:America/Los_Angeles
BEGIN:DAYLIGHT
TZOFFSETFROM:-0800
TZOFFSETTO:-0700
TZNAME:PDT
DTSTART:20220313T100000
END:DAYLIGHT
BEGIN:STANDARD
TZOFFSETFROM:-0700
TZOFFSETTO:-0800
TZNAME:PST
DTSTART:20221106T090000
END:STANDARD
BEGIN:DAYLIGHT
TZOFFSETFROM:-0800
TZOFFSETTO:-0700
TZNAME:PDT
DTSTART:20230312T100000
END:DAYLIGHT
BEGIN:STANDARD
TZOFFSETFROM:-0700
TZOFFSETTO:-0800
TZNAME:PST
DTSTART:20231105T090000
END:STANDARD
BEGIN:DAYLIGHT
TZOFFSETFROM:-0800
TZOFFSETTO:-0700
TZNAME:PDT
DTSTART:20240310T100000
END:DAYLIGHT
BEGIN:STANDARD
TZOFFSETFROM:-0700
TZOFFSETTO:-0800
TZNAME:PST
DTSTART:20241103T090000
END:STANDARD
BEGIN:DAYLIGHT
TZOFFSETFROM:-0800
TZOFFSETTO:-0700
TZNAME:PDT
DTSTART:20250309T100000
END:DAYLIGHT
BEGIN:STANDARD
TZOFFSETFROM:-0700
TZOFFSETTO:-0800
TZNAME:PST
DTSTART:20251102T090000
END:STANDARD
BEGIN:DAYLIGHT
TZOFFSETFROM:-0800
TZOFFSETTO:-0700
TZNAME:PDT
DTSTART:20260308T100000
END:DAYLIGHT
BEGIN:STANDARD
TZOFFSETFROM:-0700
TZOFFSETTO:-0800
TZNAME:PST
DTSTART:20261101T090000
END:STANDARD
END:VTIMEZONE
BEGIN:VTIMEZONE
TZID:UTC
BEGIN:STANDARD
TZOFFSETFROM:+0000
TZOFFSETTO:+0000
TZNAME:UTC
DTSTART:20210101T000000
END:STANDARD
END:VTIMEZONE
BEGIN:VTIMEZONE
TZID:America/Denver
BEGIN:DAYLIGHT
TZOFFSETFROM:-0700
TZOFFSETTO:-0600
TZNAME:MDT
DTSTART:20210314T090000
END:DAYLIGHT
BEGIN:STANDARD
TZOFFSETFROM:-0600
TZOFFSETTO:-0700
TZNAME:MST
DTSTART:20211107T080000
END:STANDARD
BEGIN:DAYLIGHT
TZOFFSETFROM:-0700
TZOFFSETTO:-0600
TZNAME:MDT
DTSTART:20220313T090000
END:DAYLIGHT
BEGIN:STANDARD
TZOFFSETFROM:-0600
TZOFFSETTO:-0700
TZNAME:MST
DTSTART:20221106T080000
END:STANDARD
BEGIN:DAYLIGHT
TZOFFSETFROM:-0700
TZOFFSETTO:-0600
TZNAME:MDT
DTSTART:20230312T090000
END:DAYLIGHT
BEGIN:STANDARD
TZOFFSETFROM:-0600
TZOFFSETTO:-0700
TZNAME:MST
DTSTART:20231105T080000
END:STANDARD
END:VTIMEZONE
BEGIN:VEVENT
DTSTART;TZID=America/Los_Angeles:20251027T080000
DTEND;TZID=America/Los_Angeles:20251031T170000
DTSTAMP:20260421T141205
CREATED:20250422T190802Z
LAST-MODIFIED:20250901T164528Z
UID:9890-1761552000-1761930000@drdianahill.com
SUMMARY:ACT Experiential Retreat: An Immersive Acceptance and Commitment Therapy Clinical Getaway
DESCRIPTION:With the background of the majestic Blue Ridge Mountains\, you’ll do some of the most meaningful work of your career ensuring an unforgettable\, life-changing pivot that will transform your clients’ suffering. During this ACT experiential retreat\, you’ll gain the tools and support needed for this transformation. \n\n\n\nSafely immersed in supervised ACT experiential exercises\, pair work\, and psychological flexibility skills-building\, you’ll witness transformation for yourself and members of your cohort during the ACT experiential retreat. \n\n\n\nEnlightened and uplifted both professionally and personally\, you’ll leave not only a changed therapist but also revitalized with the confidence to fully implement ACT to help clients struggling with anxiety\, depression\, life transitions\, and other psychological distresses after attending the retreat. \n\n\n\nFeaturing Diana Hill\, PhD\, internationally renowned ACT expert\, therapist\, author\, speaker\, podcaster\, and consultant\, this ACT experiential retreat promises profound professional and personal growth. \n\n\n\nRelated Resources: \n\n\n\nACT Daily Journal: Get Unstuck and Live Fully with Acceptance and Commitment Therapy \n\n\n\nThe Self-Compassion Daily Journal: Let Go of Your Inner Critic and Embrace Who You Are with Acceptance and Commitment Therapy \n\n\n\nLearn more
URL:https://drdianahill.com/event/act-experiential-retreat-north-carolina-2025/
CATEGORIES:Retreat
ATTACH;FMTTYPE=image/png:https://drdianahill.com/wp-content/uploads/2025/04/nrajmmokf0enanzadgpn4w.png
END:VEVENT
BEGIN:VEVENT
DTSTART;VALUE=DATE:20250412
DTEND;VALUE=DATE:20250420
DTSTAMP:20260421T141205
CREATED:20240725T100628Z
LAST-MODIFIED:20240725T100728Z
UID:9626-1744416000-1745107199@drdianahill.com
SUMMARY:Reset and Restore Retreat at Blue Spirit Costa Rica
DESCRIPTION:Join me\, Diana Hill\, at the Reset and Restore Retreat at Blue Spirit in Nosara\, Costa Rica. \nTo make a booking request\, complete and submit this form. \nPlease note that deposits are non-refundable. If you’d like more information\, don’t hesitate to contact info@drdianahill.com. Learn more about Blue Spirit Retreat Center. \nI look forward to seeing you in Costa Rica. \nMany blessings! \nDiana Hill \nPayment Schedule & Cancellation Policy: \n\nDeposit: 50% deposit per person secures your space and is non-refundable\nFinal Balance is due January 15\, 2025\nReservations are transferable with written notice\n\n  \nPrice includes: your accommodations\, 3 delicious organic buffet-style meals daily\, daily yoga classes\, use of Blue Spirit’s amazing facilities\, and all events included with the retreat itinerary unless noted. \nPrice does NOT include: airfare\, airport shuttle to/from Blue Spirit\, cafe items\, spa or rejuvenation center treatments or optional excursions. \nCancellation & Retreat Policies Agreement: Before booking your room\, you must read and sign my Cancellation & Retreat Policies Agreement (click here to download agreement). By booking this room\, you agree to those terms. You will submit the signed copy of the Agreement with your deposit. You will receive a copy of the Agreement via email for your records. Then book away! I can’t wait to host you for a fabulous\, insightful and life-affirming retreat in paradise! \nWhen you click SEND MY REQUEST\, you will be submitting a booking request for the Reset and Restore Retreat at Blue Spirit. Diana Hill will contact you with details of how to complete your booking\, including deposit\, payment and other details.
URL:https://drdianahill.com/event/costa-rica-2025/
LOCATION:Blue Spirit Costa Rica\, Blue Spirit Costa Rica Guiones sur\, Playa Guiones Costa Rica\, Nosara\, Guanacaste\, Costa Rica
CATEGORIES:Retreat
ATTACH;FMTTYPE=image/jpeg:https://drdianahill.com/wp-content/uploads/2021/04/iu.jpeg
END:VEVENT
BEGIN:VEVENT
DTSTART;TZID=America/Los_Angeles:20241029T000000
DTEND;TZID=America/Los_Angeles:20241102T235959
DTSTAMP:20260421T141205
CREATED:20240806T220906Z
LAST-MODIFIED:20240808T174921Z
UID:9649-1730160000-1730591999@drdianahill.com
SUMMARY:ACT Experiential Retreat: An Immersive Acceptance and Commitment Therapy Clinical Getaway
DESCRIPTION:ACT Training for Therapists: An Immersive Retreat Experience \nJoin clinical psychologist\, author\, and ACT expert Dr. Diana Hill at the Sedona Mago Retreat Center near Sedona\, Arizona. \nAre you an MFT\, CSW\, or psychologist? Boost your therapy practice with ACT training. \nAttend Diana’s immersive and experiential retreat and gain valuable skills in ACT therapy. \nExperience ACT skills-building and personal transformation! \nLeave renewed and energized to utilize ACT confidently with your clients as an effective treatment for anxiety\, depression\, trauma\, and more. \nPLUS\, earn up to 19 CE Hours (included with your tuition)!
URL:https://drdianahill.com/event/act-experiential-retreat-an-immersive-acceptance-and-commitment-therapy-clinical-getaway/
LOCATION:Sedona Mago Retreat Center\, 3500 E. Bill Gray Road\, Sedona\, AZ\, 86336\, United States
CATEGORIES:Retreat
ATTACH;FMTTYPE=image/jpeg:https://drdianahill.com/wp-content/uploads/2024/08/5-Day-ACT-Experiential-Retreat-An-Immersive-Acceptance-and-Commitment-Therapy-Clinical-Getaway-Dr-Diana-Hill-ACT-Pscyhologist-Leadership-Coach-Share-Card.jpg
END:VEVENT
BEGIN:VEVENT
DTSTART;VALUE=DATE:20240330
DTEND;VALUE=DATE:20240407
DTSTAMP:20260421T141205
CREATED:20230425T204435Z
LAST-MODIFIED:20230521T142833Z
UID:7804-1711756800-1712447999@drdianahill.com
SUMMARY:Reset and Restore Retreat at Blue Spirit Costa Rica
DESCRIPTION:Join me\, Diana Hill\, at the Reset and Restore Retreat at Blue Spirit in Nosara\, Costa Rica. \nTo make a booking request\, complete and submit the form below. Please note that deposits are non-refundable. If you’d like more information\, don’t hesitate to contact info@drdianahill.com. Learn more about Blue Spirit Retreat Center. \nI look forward to seeing you in Costa Rica. \nMany blessings! \nDiana Hill \nPayment Schedule & Cancellation Policy: \n\nDeposit: 50% deposit per person secures your space and is non-refundable\nFinal Balance is due January 15\, 2024\nReservations are transferable with written notice\n\n\n\n                \n                        \n                            Costa Rica Retreat Booking Request\n                             \n                         \n \n                        LinkedInThis field is for validation purposes and should be left unchanged.Name*\n                            \n                            \n                                                    First\n                                                    \n                                                \n                            \n                            \n                                                            Last\n                                                            \n                                                        \n                            \n                        Email*\n                                \n                                    Enter Email\n                                    \n                                \n                                \n                                    Confirm Email\n                                    \n                                \n                                \n                            Please add info@drdianahill.com to your contacts to ensure you receive messages about your reservation requests.Mobile number*We will send messages about your reservation requests to your mobile number.Room Preference*Superior Ocean View (Single Occupancy) - SOLD OUTSuperior Ocean View (Double Occupancy) - SOLD OUTOcean View (Single Occupancy) - SOLD OUTOcean View (Double Occupancy) - SOLD OUTMountain View (Single Occupancy - 2 leftMountain View (Double Occupancy - 2 leftPacifico Cottage (Single Occupancy) - SOLD OUTPacifico Cottage (Double Occupancy) - SOLD OUTNature Suite (Single Occupancy) - 6 leftNature Suite (Double Occupancy) - 6 leftHermitage King (Single Occupancy) - 4 leftHermitage King (Double Occupancy) - 4 leftHermitage Queen (Single Occupancy) - 6 leftHermitage Queen (Double Occupancy) - 6 leftHermitage Twin (Single Occupancy) - 1 leftHermitage Twin (Double Occupancy) - 1 leftEco Cottage (Single Occupancy) - 3 leftEco Cottage (Double Occupancy) - 3 leftPlatform Tent (Single Occupancy) - 1 leftPlatform Tent (Double Occupancy) - 1 leftI'd like to be on the WAITLIST in case a room become availableSee prices at drdianahill.com/reset-and-restore-retreat/Traveling with someone? If you are requesting the Double Occupancy rate\, there must be two paying adults staying in the room.Confirm Retreat Dates*Please check your calendar to confirm your availability to travel during April 12-April 19\, 2025.\n								\n								Check the box to tell us\, "Yes\, I've confirmed my travel availability."\n							Discount CodeHow did you hear about this retreat?*Anything we should know (e.g.\, questions\, allergies\, mobility concerns\, etc)?\n          \n            \n            \n            \n            \n            \n            \n            \n            \n            \n            \n            \n            \n        \n                        Δ \n                        \n\nPrice includes: your accommodations\, 3 delicious organic buffet-style meals daily\, daily yoga classes\, use of Blue Spirit’s amazing facilities\, and all events included with the retreat itinerary unless noted. \nPrice does NOT include: airfare\, airport shuttle to/from Blue Spirit\, cafe items\, spa or rejuvenation center treatments or optional excursions. \nCancellation & Retreat Policies Agreement: Before booking your room\, you must read and sign my Cancellation & Retreat Policies Agreement (click here to download agreement). By booking this room\, you agree to those terms. You will submit the signed copy of the Agreement with your deposit. You will receive a copy of the Agreement via email for your records. Then book away! I can’t wait to host you for a fabulous\, insightful and life-affirming retreat in paradise! \nWhen you click SEND MY REQUEST\, you will be submitting a booking request for the Reset and Restore Retreat at Blue Spirit. Diana Hill will contact you with details of how to complete your booking\, including deposit\, payment and other details.
URL:https://drdianahill.com/event/reset-and-restore-retreat-at-blue-spirit-costa-rica-2024/
LOCATION:Blue Spirit Costa Rica\, Blue Spirit Costa Rica Guiones sur\, Playa Guiones Costa Rica\, Nosara\, Guanacaste\, Costa Rica
CATEGORIES:Retreat
ATTACH;FMTTYPE=image/jpeg:https://drdianahill.com/wp-content/uploads/2021/04/iu.jpeg
END:VEVENT
BEGIN:VEVENT
DTSTART;TZID=America/Los_Angeles:20231030T080000
DTEND;TZID=America/Los_Angeles:20231103T170000
DTSTAMP:20260421T141205
CREATED:20230619T235931Z
LAST-MODIFIED:20230619T235942Z
UID:8132-1698652800-1699030800@drdianahill.com
SUMMARY:ACT Experiential Retreat: An Immersive Acceptance and Commitment Therapy Clinical Getaway
DESCRIPTION:ACT Experiential Retreat:\nAn Immersive Acceptance and Commitment Therapy Clinical Getaway \n\n\n\n\n\nLIVE in Sedona\, Arizona\nMonday\, October 30th – Friday\, November 3rd \nRegister today and we’ll see you in Sedona! \nSingle Occupancy: $2\,499 \n\n\nPlus\, earn up to 19 CE Hours — included in your tuition. Click here for CE credit details\nDon’t see your state profession listed? Contact us. Credit hours may vary by board and profession.\n\n\n\n\n\n\nWith the background of the majestic Sedona red rocks\, you’ll do some of the most meaningful work of your career ensuring an unforgettable\, life-changing pivot that will transform your clients’ suffering. \nSafely immersed in supervised ACT experiential exercises\, pair work\, and psychological flexibility skills-building\, you’ll witness transformation for yourself and members of your cohort. \nEnlightened and uplifted both professionally and personally\, you’ll leave not only a changed therapist\, but revitalized with the confidence to fully implement ACT to help clients struggling with anxiety\, depression\, life transitions\, and other psychological distresses. \n\n\n\n\n\nDiana Hill\, PhD\, is an internationally known ACT expert\, therapist\, author\, speaker\, podcaster\, and consultant whose work has been celebrated by many world-renowned ACT experts including Steven Hayes\, PhD\, and Rick Hanson\, PhD. \nJoin Dr. Hill as she guides you through engaging metaphors\, case studies\, experiential exercises\, visualizations\, and embodied movement to help clients: \n\nDecrease avoidance and release attempts to control so they act rather than react\nAnchor into their immediate experience so they stop living their lives on autopilot\nStop ruminating to achieve distance from painful thoughts and feelings\nReduce self-criticism and cultivate a self-compassionate voice that’s warm\, kind and encouraging\nRedefine their sense of self in a way that fosters willingness to connect to their values\nIntegrate ACT core processes into their daily activities\n\nYou don’t want to miss this opportunity to help clients stop trying to control their experiences and start accepting them so that they can take action toward what they care about—building rich and meaningful lives! \nAre you ready?\n\nRegister today and we’ll see you in Sedona!
URL:https://drdianahill.com/event/act-experiential-retreat-sedona-arizonia-pesi-2023/
LOCATION:Sedona Mago Retreat Center\, 3500 E. Bill Gray Road\, Sedona\, AZ\, 86336\, United States
CATEGORIES:Retreat
ATTACH;FMTTYPE=image/jpeg:https://drdianahill.com/wp-content/uploads/2023/06/3fvjg1vzeqxezwxyf1tsw.jpg
END:VEVENT
BEGIN:VEVENT
DTSTART;VALUE=DATE:20230415
DTEND;VALUE=DATE:20230423
DTSTAMP:20260421T141205
CREATED:20221029T022055Z
LAST-MODIFIED:20230425T203645Z
UID:6377-1681516800-1682207999@drdianahill.com
SUMMARY:Reset and Restore Retreat at Blue Spirit Costa Rica
DESCRIPTION:Join me\, Diana Hill\, at the Reset and Restore Retreat at Blue Spirit in Nosara\, Costa Rica. \nTo make a booking request\, complete and submit the form below. Please note that deposits are non-refundable. If you’d like more information please contact info@drdianahill.com. Learn more about Blue Spirit Retreat Center. \nI look forward to seeing you in Costa Rica. \nMany blessings! \nDiana Hill \nPayment Schedule & Cancellation Policy: \n\nDeposit: This $1000 deposit per person secures your space and is non-refundable\nFinal Balance is due February 15\, 2023\nReservations are transferable with written notice\n\n\n                \n                        \n                            Costa Rica Retreat Booking Request\n                             \n                         \n \n                        X/TwitterThis field is for validation purposes and should be left unchanged.Name*\n                            \n                            \n                                                    First\n                                                    \n                                                \n                            \n                            \n                                                            Last\n                                                            \n                                                        \n                            \n                        Email*\n                                \n                                    Enter Email\n                                    \n                                \n                                \n                                    Confirm Email\n                                    \n                                \n                                \n                            Please add info@drdianahill.com to your contacts to ensure you receive messages about your reservation requests.Mobile number*We will send messages about your reservation requests to your mobile number.Room Preference*Superior Ocean View (Single Occupancy) - SOLD OUTSuperior Ocean View (Double Occupancy) - SOLD OUTOcean View (Single Occupancy) - SOLD OUTOcean View (Double Occupancy) - SOLD OUTMountain View (Single Occupancy - 2 leftMountain View (Double Occupancy - 2 leftPacifico Cottage (Single Occupancy) - SOLD OUTPacifico Cottage (Double Occupancy) - SOLD OUTNature Suite (Single Occupancy) - 6 leftNature Suite (Double Occupancy) - 6 leftHermitage King (Single Occupancy) - 4 leftHermitage King (Double Occupancy) - 4 leftHermitage Queen (Single Occupancy) - 6 leftHermitage Queen (Double Occupancy) - 6 leftHermitage Twin (Single Occupancy) - 1 leftHermitage Twin (Double Occupancy) - 1 leftEco Cottage (Single Occupancy) - 3 leftEco Cottage (Double Occupancy) - 3 leftPlatform Tent (Single Occupancy) - 1 leftPlatform Tent (Double Occupancy) - 1 leftI'd like to be on the WAITLIST in case a room become availableSee prices at drdianahill.com/reset-and-restore-retreat/Traveling with someone? If you are requesting the Double Occupancy rate\, there must be two paying adults staying in the room.Confirm Retreat Dates*Please check your calendar to confirm your availability to travel during April 12-April 19\, 2025.\n								\n								Check the box to tell us\, "Yes\, I've confirmed my travel availability."\n							Discount CodeHow did you hear about this retreat?*Anything we should know (e.g.\, questions\, allergies\, mobility concerns\, etc)?\n          \n            \n            \n            \n            \n            \n            \n            \n            \n            \n            \n            \n            \n        \n                        Δ \n                        \n\nPrice includes: your accommodations\, 3 delicious organic buffet-style meals daily\, daily yoga classes\, use of Blue Spirit’s amazing facilities\, and all events included with the retreat itinerary unless noted. \nPrice does NOT include: airfare\, airport shuttle to/from Blue Spirit\, cafe items\, spa or rejuvenation center treatments or optional excursions. \nCancellation & Retreat Policies Agreement: Before booking your room\, you must read and sign my Cancellation & Retreat Policies Agreement (click here to download agreement). By booking this room\, you agree to those terms. You will submit the signed copy of the Agreement with your deposit. You will receive a copy of the Agreement via email for your records. Then book away! I can’t wait to host you for a fabulous\, insightful and life-affirming retreat in paradise! \nWhen you click SEND MY REQUEST\, you will be submitting a booking request for the Reset and Restore Retreat at Blue Spirit. Diana Hill will contact you with details of how to complete your booking\, including deposit\, payment and other details.
URL:https://drdianahill.com/event/reset-and-restore-retreat-at-blue-spirit-costa-rica-2023/
LOCATION:Blue Spirit Costa Rica\, Blue Spirit Costa Rica Guiones sur\, Playa Guiones Costa Rica\, Nosara\, Guanacaste\, Costa Rica
CATEGORIES:Retreat
ATTACH;FMTTYPE=image/jpeg:https://drdianahill.com/wp-content/uploads/2021/04/iu.jpeg
END:VEVENT
BEGIN:VEVENT
DTSTART;VALUE=DATE:20221101
DTEND;VALUE=DATE:20221107
DTSTAMP:20260421T141205
CREATED:20220908T000132Z
LAST-MODIFIED:20221120T204545Z
UID:6097-1667260800-1667779199@drdianahill.com
SUMMARY:6-Day ACT Intensive Retreat
DESCRIPTION:Join Diana for An Immersive Acceptance and Commitment Therapy Clinical Experiential in Sedona\, Arizona. \nWith the background of the majestic Sedona red rocks\, you’ll do some of the most meaningful work of your career ensuring an unforgettable\, life-changing pivot that will transform your clients’ suffering. \nSafely immersed in supervised ACT experiential exercises\, pair work\, and psychological flexibility skills-building\, you’ll witness transformation for yourself and members of your cohort. \nEnlightened and uplifted both professionally and personally\, you’ll leave not only a changed therapist\, but revitalized with the confidence to fully implement ACT to help clients struggling with anxiety\, depression\, life transitions\, and other psychological distresses. \nREGISTER HERE
URL:https://drdianahill.com/event/6-day-act-intensive-retreat/
LOCATION:Sedona Mago Retreat Center\, 3500 E. Bill Gray Road\, Sedona\, AZ\, 86336\, United States
CATEGORIES:Retreat
ATTACH;FMTTYPE=image/jpeg:https://drdianahill.com/wp-content/uploads/2022/09/fpcdva_v4uct6gyxkufyvq.jpg
END:VEVENT
BEGIN:VEVENT
DTSTART;TZID=America/Denver:20221013T080000
DTEND;TZID=America/Denver:20221014T170000
DTSTAMP:20260421T141205
CREATED:20220906T195451Z
LAST-MODIFIED:20221120T204547Z
UID:6079-1665648000-1665766800@drdianahill.com
SUMMARY:Lightfully Leadership Retreat
DESCRIPTION:Lightfully Leadership Retreat\nSanta Barbara\, CA\nInvitation Only
URL:https://drdianahill.com/event/lightfully-leadership-retreat/
CATEGORIES:Retreat
ATTACH;FMTTYPE=image/png:https://drdianahill.com/wp-content/uploads/2022/02/image001.png
END:VEVENT
BEGIN:VEVENT
DTSTART;VALUE=DATE:20220416
DTEND;VALUE=DATE:20220424
DTSTAMP:20260421T141205
CREATED:20210506T221109Z
LAST-MODIFIED:20221120T204555Z
UID:2125-1650067200-1650758399@drdianahill.com
SUMMARY:Values-Rich Living Retreat at Blue Spirit Costa Rica
DESCRIPTION:I am so excited to host you for the Values-Rich Living Retreat at Blue Spirit in Nosara\, Costa Rica. \nTo make a booking request\, complete and submit the form below. Please note that deposits are non-refundable. If you are using a DISCOUNT CODE – please note that the discount will come out of your final payment. If you’d like more information please contact info@drdianahill.com I look forward to seeing you in Costa Rica. \nMany Blessings! \nDiana Hill \nPayment Schedule & Cancellation Policy: \n\nDeposit: This $500 deposit per person secures your space and is non-refundable\n1st payment: 50% of the Final Balance is due February 15\, 2022\n2nd payment: Final Balance is due March 15\, 2022\nReservations are transferable with written notice\n\n\n                \n                        \n                            Costa Rica Retreat Booking Request\n                             \n                         \n \n                        CompanyThis field is for validation purposes and should be left unchanged.Name*\n                            \n                            \n                                                    First\n                                                    \n                                                \n                            \n                            \n                                                            Last\n                                                            \n                                                        \n                            \n                        Email*\n                                \n                                    Enter Email\n                                    \n                                \n                                \n                                    Confirm Email\n                                    \n                                \n                                \n                            Please add info@drdianahill.com to your contacts to ensure you receive messages about your reservation requests.Mobile number*We will send messages about your reservation requests to your mobile number.Room Preference*Superior Ocean View (Single Occupancy) - SOLD OUTSuperior Ocean View (Double Occupancy) - SOLD OUTOcean View (Single Occupancy) - SOLD OUTOcean View (Double Occupancy) - SOLD OUTMountain View (Single Occupancy - 2 leftMountain View (Double Occupancy - 2 leftPacifico Cottage (Single Occupancy) - SOLD OUTPacifico Cottage (Double Occupancy) - SOLD OUTNature Suite (Single Occupancy) - 6 leftNature Suite (Double Occupancy) - 6 leftHermitage King (Single Occupancy) - 4 leftHermitage King (Double Occupancy) - 4 leftHermitage Queen (Single Occupancy) - 6 leftHermitage Queen (Double Occupancy) - 6 leftHermitage Twin (Single Occupancy) - 1 leftHermitage Twin (Double Occupancy) - 1 leftEco Cottage (Single Occupancy) - 3 leftEco Cottage (Double Occupancy) - 3 leftPlatform Tent (Single Occupancy) - 1 leftPlatform Tent (Double Occupancy) - 1 leftI'd like to be on the WAITLIST in case a room become availableSee prices at drdianahill.com/reset-and-restore-retreat/Traveling with someone? If you are requesting the Double Occupancy rate\, there must be two paying adults staying in the room.Confirm Retreat Dates*Please check your calendar to confirm your availability to travel during April 12-April 19\, 2025.\n								\n								Check the box to tell us\, "Yes\, I've confirmed my travel availability."\n							Discount CodeHow did you hear about this retreat?*Anything we should know (e.g.\, questions\, allergies\, mobility concerns\, etc)?\n          \n            \n            \n            \n            \n            \n            \n            \n            \n            \n            \n            \n            \n        \n                        Δ \n                        \n\nPrice includes: your accommodations\, 3 delicious organic buffet-style meals daily\, daily yoga classes\, use of Blue Spirit’s amazing facilities\, and all events included with the retreat itinerary unless noted. \nPrice does NOT include: airfare\, airport shuttle to/from Blue Spirit\, cafe items\, spa or rejuvenation center treatments or optional excursions. \nCancellation & Retreat Policies Agreement: Before booking your room\, you must read and sign our Cancellation & Retreat Policies Agreement (click here to download agreement). By booking this room\, you agree to those terms. You will submit the signed copy of the Agreement with your deposit. You will receive a copy of the Agreement via email for your records. Then book away! We can’t wait to host you for a fabulous\, insightful and life-affirming retreat in paradise! \nWhen you click SEND MY REQUEST\, you will be submitting a booking request for the Values-Rich Living Retreat at Blue Spirit. Diana Hill will contact you with details of how to complete your booking\, including deposit\, payment and other details.
URL:https://drdianahill.com/event/values-rich-living-retreat/
LOCATION:Blue Spirit Costa Rica\, Blue Spirit Costa Rica Guiones sur\, Playa Guiones Costa Rica\, Nosara\, Guanacaste\, Costa Rica
CATEGORIES:Retreat
ATTACH;FMTTYPE=image/jpeg:https://drdianahill.com/wp-content/uploads/2021/04/iu.jpeg
END:VEVENT
END:VCALENDAR