BEGIN:VCALENDAR
VERSION:2.0
PRODID:-//Dr. Diana Hill - ECPv6.15.20//NONSGML v1.0//EN
CALSCALE:GREGORIAN
METHOD:PUBLISH
X-WR-CALNAME:Dr. Diana Hill
X-ORIGINAL-URL:https://drdianahill.com
X-WR-CALDESC:Events for Dr. Diana Hill
REFRESH-INTERVAL;VALUE=DURATION:PT1H
X-Robots-Tag:noindex
X-PUBLISHED-TTL:PT1H
BEGIN:VTIMEZONE
TZID:America/Chicago
BEGIN:DAYLIGHT
TZOFFSETFROM:-0600
TZOFFSETTO:-0500
TZNAME:CDT
DTSTART:20200308T080000
END:DAYLIGHT
BEGIN:STANDARD
TZOFFSETFROM:-0500
TZOFFSETTO:-0600
TZNAME:CST
DTSTART:20201101T070000
END:STANDARD
BEGIN:DAYLIGHT
TZOFFSETFROM:-0600
TZOFFSETTO:-0500
TZNAME:CDT
DTSTART:20210314T080000
END:DAYLIGHT
BEGIN:STANDARD
TZOFFSETFROM:-0500
TZOFFSETTO:-0600
TZNAME:CST
DTSTART:20211107T070000
END:STANDARD
BEGIN:DAYLIGHT
TZOFFSETFROM:-0600
TZOFFSETTO:-0500
TZNAME:CDT
DTSTART:20220313T080000
END:DAYLIGHT
BEGIN:STANDARD
TZOFFSETFROM:-0500
TZOFFSETTO:-0600
TZNAME:CST
DTSTART:20221106T070000
END:STANDARD
END:VTIMEZONE
BEGIN:VTIMEZONE
TZID:America/New_York
BEGIN:DAYLIGHT
TZOFFSETFROM:-0500
TZOFFSETTO:-0400
TZNAME:EDT
DTSTART:20200308T070000
END:DAYLIGHT
BEGIN:STANDARD
TZOFFSETFROM:-0400
TZOFFSETTO:-0500
TZNAME:EST
DTSTART:20201101T060000
END:STANDARD
BEGIN:DAYLIGHT
TZOFFSETFROM:-0500
TZOFFSETTO:-0400
TZNAME:EDT
DTSTART:20210314T070000
END:DAYLIGHT
BEGIN:STANDARD
TZOFFSETFROM:-0400
TZOFFSETTO:-0500
TZNAME:EST
DTSTART:20211107T060000
END:STANDARD
BEGIN:DAYLIGHT
TZOFFSETFROM:-0500
TZOFFSETTO:-0400
TZNAME:EDT
DTSTART:20220313T070000
END:DAYLIGHT
BEGIN:STANDARD
TZOFFSETFROM:-0400
TZOFFSETTO:-0500
TZNAME:EST
DTSTART:20221106T060000
END:STANDARD
END:VTIMEZONE
BEGIN:VEVENT
DTSTART;TZID=America/Chicago:20210527T120000
DTEND;TZID=America/Chicago:20210527T130000
DTSTAMP:20260423T154149
CREATED:20210515T043407Z
LAST-MODIFIED:20221120T204615Z
UID:2233-1622116800-1622120400@drdianahill.com
SUMMARY:Unpacking Acceptance and Commitment Therapy (ACT): 6 Core Processes to Help Your Clients Build Psychological Flexibility
DESCRIPTION:Join me for this FREE 1-hour webcast as I unpack ACT into its six core processes—Acceptance\, Defusion\, Present Moment\, Contextualized Self\, Values\, Committed Action—giving examples of how each builds Psychological Flexibility. \nHave you tried using Acceptance and Commitment Therapy (ACT) in therapy with clients or are interested in learning\, but feel overwhelmed and bogged down by all the terminology\, processes\, and techniques? Or maybe you struggle with making space for our own discomfort in the therapy room\, getting stuck in your own emotional avoidance patterns\, and getting caught in your head. \nThrough story-telling\, case examples\, using metaphors\, and performing experiential exercises\, you’ll learn to embody the principles of ACT in just 1-hour! \nBringing ACT to your practice does not mean you have to start over. You’ll learn that ACT incorporates what you already know that works in your clinical practice. In a compassion-focused approach\, I will guide you through the science of ACT while teaching you how to skillfully integrate the processes into your practice!
URL:https://drdianahill.com/event/unpacking-acceptance-and-commitment-therapy-pesi-webinar/
CATEGORIES:Webinar
ATTACH;FMTTYPE=image/png:https://drdianahill.com/wp-content/uploads/2021/05/FREE-ACT_555-x-416.png
END:VEVENT
BEGIN:VEVENT
DTSTART;TZID=America/New_York:20210428T160000
DTEND;TZID=America/New_York:20210428T180000
DTSTAMP:20260423T154149
CREATED:20210225T115416Z
LAST-MODIFIED:20221120T204622Z
UID:1359-1619625600-1619632800@drdianahill.com
SUMMARY:"Daily ACT" Webinar with Drs. Diana Hill and Debbie Sorensen
DESCRIPTION:When life gets challenging\, it’s easy to get stuck in unhelpful patterns. \nEven if you’ve made a commitment to live according to your core values\, the ‘real-world’ has a way of driving a wedge between you and what matters most. \nYou might find yourself latching onto unhelpful thoughts and emotions\, or spend all your energy avoiding uncomfortable experiences or interactions. \nThe principles of acceptance and commitment therapy (ACT) can help anyone — even mental health practitioners themselves — to navigate life’s challenges more effectively and build a richer\, more meaningful life. \nBut for many practitioners\, shifting powerful ACT interventions from the therapy room to their own busy lives can be difficult. \nHow do you turn techniques designed to help your clients develop psychological flexibility into simple practices you can incorporate into the quick pace of daily life? \nThis free webinar will help you build daily ACT practices designed to accommodate real life. You’ll learn simple and effective exercises for cultivating wellbeing through courageous\, aware\, and whole-hearted living. \nDr. Diana Hill and Dr. Debbie Sorensen will show you how to build impactful ACT micro-practices into your everyday life\, and share examples of how they integrate psychological flexibility principles into their own lives. \nYou’ll leave this webinar with tools to build values-based daily habits\, and strategies for staying present and gaining perspective\, all while navigating whatever life throws your way. \nThis webinar is open to the general public and mental health professionals alike. All you’ll need to bring is curiosity and the willingness to explore how implementing daily ACT practices can enrich your life.
URL:https://drdianahill.com/event/daily-act-webinar-with-drs-diana-hill-and-debbie-sorensen/
LOCATION:Online
CATEGORIES:Webinar
END:VEVENT
END:VCALENDAR