BEGIN:VCALENDAR
VERSION:2.0
PRODID:-//Dr. Diana Hill - ECPv6.15.20//NONSGML v1.0//EN
CALSCALE:GREGORIAN
METHOD:PUBLISH
X-WR-CALNAME:Dr. Diana Hill
X-ORIGINAL-URL:https://drdianahill.com
X-WR-CALDESC:Events for Dr. Diana Hill
REFRESH-INTERVAL;VALUE=DURATION:PT1H
X-Robots-Tag:noindex
X-PUBLISHED-TTL:PT1H
BEGIN:VTIMEZONE
TZID:America/Los_Angeles
BEGIN:DAYLIGHT
TZOFFSETFROM:-0800
TZOFFSETTO:-0700
TZNAME:PDT
DTSTART:20230312T100000
END:DAYLIGHT
BEGIN:STANDARD
TZOFFSETFROM:-0700
TZOFFSETTO:-0800
TZNAME:PST
DTSTART:20231105T090000
END:STANDARD
BEGIN:DAYLIGHT
TZOFFSETFROM:-0800
TZOFFSETTO:-0700
TZNAME:PDT
DTSTART:20240310T100000
END:DAYLIGHT
BEGIN:STANDARD
TZOFFSETFROM:-0700
TZOFFSETTO:-0800
TZNAME:PST
DTSTART:20241103T090000
END:STANDARD
BEGIN:DAYLIGHT
TZOFFSETFROM:-0800
TZOFFSETTO:-0700
TZNAME:PDT
DTSTART:20250309T100000
END:DAYLIGHT
BEGIN:STANDARD
TZOFFSETFROM:-0700
TZOFFSETTO:-0800
TZNAME:PST
DTSTART:20251102T090000
END:STANDARD
END:VTIMEZONE
BEGIN:VEVENT
DTSTART;TZID=America/Los_Angeles:20241001T080000
DTEND;TZID=America/Los_Angeles:20241001T170000
DTSTAMP:20260424T065634
CREATED:20240806T220151Z
LAST-MODIFIED:20241010T204621Z
UID:9648-1727769600-1727802000@drdianahill.com
SUMMARY:Foundations of ACT Course on Mindful Launch
DESCRIPTION:I’m excited to share that my online course\, Foundations of ACT is now available through a partnership with Mindful. \n\n\n\nYou can sign up here \n\n\n\nWhat I love about ACT\, or Acceptance and Commitment Therapy\, is that it’s not about changing who you are—it’s about embracing yourself right now. Difficult circumstances\, unpleasant thoughts\, uncomfortable emotions\, and all.  \n\n\n\nI created this course to be a self-paced\, fully online format. It gives you everything you need to get started and deepen your mindfulness practice with ACT\, including:  \n\n\n\nMindful Practices: Explore guided meditations and a yoga session with yours truly! \n\n\n\n7 Core Lessons: Discover ACT’s 6 processes to help you get unstuck\, plus how to integrate them all in a flexible way \n\n\n\nBonus Resources: Take your learning to the next level with journal prompts\, self-assessments\, and more
URL:https://drdianahill.com/event/mindful-course-launch/
LOCATION:California
CATEGORIES:Announcement
ATTACH;FMTTYPE=image/png:https://drdianahill.com/wp-content/uploads/2024/08/336x280.png
END:VEVENT
BEGIN:VEVENT
DTSTART;VALUE=DATE:20241010
DTEND;VALUE=DATE:20241014
DTSTAMP:20260424T065634
CREATED:20240806T215548Z
LAST-MODIFIED:20240806T221856Z
UID:9645-1728518400-1728863999@drdianahill.com
SUMMARY:ACT BootCamp: Premier 4-Day Training in Acceptance & Commitment Therapy
DESCRIPTION:Join the flagship ACT training that has transformed the practices of thousands of therapists worldwide! \n…your chance to experience the unique opportunity to learn Acceptance and Commitment Therapy (ACT) in person with originator Dr. Steven C. Hayes and master ACT clinicians Robyn D. Walser\, PhD\, Miranda Morris\, PhD\, and Diana Hill\, PhD. \nThe world-famous ACT BootCamp® is only offered a few times yearly and is only live and in-person. \nYou can’t see it on a screen—it’s never been recorded and will not be available for live streaming or as an online course. \nDesigned for new and advanced practitioners\, this 4-day skills-based intensive training will fully prepare you to go from start to finish so you can safely and effectively apply ACT with your clients immediately. \nSeats are limited\, and we expect this in-person-only training to sell out\, so REGISTER TODAY to get the comprehensive\, personalized training you need to become an ACT therapist.
URL:https://drdianahill.com/event/act-bootcamp/
LOCATION:Omni Shoreham Hotel\, Washington\, DC\, United States
CATEGORIES:Workshop
ATTACH;FMTTYPE=image/jpeg:https://drdianahill.com/wp-content/uploads/2024/08/ACT-BootCamp-2024-dr-diana-hill-act-psychologist.jpg
END:VEVENT
BEGIN:VEVENT
DTSTART;TZID=America/Los_Angeles:20241016T180000
DTEND;TZID=America/Los_Angeles:20241016T193000
DTSTAMP:20260424T065634
CREATED:20241010T195930Z
LAST-MODIFIED:20241010T205330Z
UID:9734-1729101600-1729107000@drdianahill.com
SUMMARY:Meditation + Talk: The 5 Reasons You Are Working Hard and Going Nowhere With Dr. Diana Hill
DESCRIPTION:Wednesday Meditations: Free Weekly Talks and Meditations with Dr. Rick Hanson. \n\n\n\nSign up for Diana Hill’s meditation and talk \n\n\n\nIn this talk and meditation\, guest teacher Dr. Diana Hill explores a few of the reasons you are working hard and going nowhere.
URL:https://drdianahill.com/event/meditation-talk-the-5-reasons-you-are-working-hard-and-going-nowhere-with-dr-diana-hill/
LOCATION:Online
CATEGORIES:Meditation
ATTACH;FMTTYPE=image/jpeg:https://drdianahill.com/wp-content/uploads/2024/10/Screenshot-2024-10-10-at-1.52.12 PM.jpg
END:VEVENT
BEGIN:VEVENT
DTSTART;TZID=America/Los_Angeles:20241023T180000
DTEND;TZID=America/Los_Angeles:20241023T193000
DTSTAMP:20260424T065634
CREATED:20241010T203109Z
LAST-MODIFIED:20241010T205339Z
UID:9735-1729706400-1729711800@drdianahill.com
SUMMARY:Meditation + Talk: Guest Teacher Dr. Diana Hill
DESCRIPTION:Wednesday Meditations: Free Weekly Talks and Meditations with Dr. Rick Hanson. \n\n\n\nSign up for Diana Hill’s meditation and talk \n\n\n\nMuch research has shown that meditation is one of the very best ways to cultivate the brain states of self-awareness\, calm and inner peace\, lovingkindness\, mindfulness\, and happiness – as well as strengthen the immune system and nurture other health benefits. \n\n\n\nJoin guest teacher Diana Hill for a live-streamed weekly meditation\, talk\, and discussion. Diana Hill\, PhD\, is a clinical psychologist\, international trainer\, and sought-out speaker on Acceptance and Commitment Therapy (ACT) and compassion. She hosts Wise Effort with Dr. Diana Hill\, and is the author of ACT Daily Journal\, The Self-Compassion Daily Journal\, and the upcoming book Wise Effort. Diana works with organizations and individuals to develop psychological flexibility so that they can grow fulfilling and impactful lives.
URL:https://drdianahill.com/event/meditation-talk-guest-teacher-dr-diana-hill/
LOCATION:Online
CATEGORIES:Meditation
ATTACH;FMTTYPE=image/jpeg:https://drdianahill.com/wp-content/uploads/2024/10/Screenshot-2024-10-10-at-1.52.12 PM.jpg
END:VEVENT
BEGIN:VEVENT
DTSTART;TZID=America/Los_Angeles:20241029T000000
DTEND;TZID=America/Los_Angeles:20241102T235959
DTSTAMP:20260424T065634
CREATED:20240806T220906Z
LAST-MODIFIED:20240808T174921Z
UID:9649-1730160000-1730591999@drdianahill.com
SUMMARY:ACT Experiential Retreat: An Immersive Acceptance and Commitment Therapy Clinical Getaway
DESCRIPTION:ACT Training for Therapists: An Immersive Retreat Experience \nJoin clinical psychologist\, author\, and ACT expert Dr. Diana Hill at the Sedona Mago Retreat Center near Sedona\, Arizona. \nAre you an MFT\, CSW\, or psychologist? Boost your therapy practice with ACT training. \nAttend Diana’s immersive and experiential retreat and gain valuable skills in ACT therapy. \nExperience ACT skills-building and personal transformation! \nLeave renewed and energized to utilize ACT confidently with your clients as an effective treatment for anxiety\, depression\, trauma\, and more. \nPLUS\, earn up to 19 CE Hours (included with your tuition)!
URL:https://drdianahill.com/event/act-experiential-retreat-an-immersive-acceptance-and-commitment-therapy-clinical-getaway/
LOCATION:Sedona Mago Retreat Center\, 3500 E. Bill Gray Road\, Sedona\, AZ\, 86336\, United States
CATEGORIES:Retreat
ATTACH;FMTTYPE=image/jpeg:https://drdianahill.com/wp-content/uploads/2024/08/5-Day-ACT-Experiential-Retreat-An-Immersive-Acceptance-and-Commitment-Therapy-Clinical-Getaway-Dr-Diana-Hill-ACT-Pscyhologist-Leadership-Coach-Share-Card.jpg
END:VEVENT
END:VCALENDAR